BEGIN:VCALENDAR
VERSION:2.0
PRODID:-//Mersey Park Primary School - ECPv6.15.20//NONSGML v1.0//EN
CALSCALE:GREGORIAN
METHOD:PUBLISH
X-WR-CALNAME:Mersey Park Primary School
X-ORIGINAL-URL:https://merseyparkprimary.co.uk
X-WR-CALDESC:Events for Mersey Park Primary School
REFRESH-INTERVAL;VALUE=DURATION:PT1H
X-Robots-Tag:noindex
X-PUBLISHED-TTL:PT1H
BEGIN:VTIMEZONE
TZID:UTC
BEGIN:STANDARD
TZOFFSETFROM:+0000
TZOFFSETTO:+0000
TZNAME:UTC
DTSTART:20240101T000000
END:STANDARD
END:VTIMEZONE
BEGIN:VEVENT
DTSTART;TZID=UTC:20250611T080000
DTEND;TZID=UTC:20250731T170000
DTSTAMP:20260421T065009
CREATED:20250611T121901Z
LAST-MODIFIED:20250612T091817Z
UID:26935-1749628800-1753981200@merseyparkprimary.co.uk
SUMMARY:Sports Day
DESCRIPTION:
URL:https://merseyparkprimary.co.uk/event/sports-day/
END:VEVENT
END:VCALENDAR