BEGIN:VCALENDAR
VERSION:2.0
PRODID:-//Mersey Park Primary School - ECPv6.15.20//NONSGML v1.0//EN
CALSCALE:GREGORIAN
METHOD:PUBLISH
X-WR-CALNAME:Mersey Park Primary School
X-ORIGINAL-URL:https://merseyparkprimary.co.uk
X-WR-CALDESC:Events for Mersey Park Primary School
REFRESH-INTERVAL;VALUE=DURATION:PT1H
X-Robots-Tag:noindex
X-PUBLISHED-TTL:PT1H
BEGIN:VTIMEZONE
TZID:UTC
BEGIN:STANDARD
TZOFFSETFROM:+0000
TZOFFSETTO:+0000
TZNAME:UTC
DTSTART:20250101T000000
END:STANDARD
END:VTIMEZONE
BEGIN:VEVENT
DTSTART;TZID=UTC:20260119T143000
DTEND;TZID=UTC:20260123T150000
DTSTAMP:20260420T183343
CREATED:20260121T154151Z
LAST-MODIFIED:20260121T154541Z
UID:28126-1768833000-1769180400@merseyparkprimary.co.uk
SUMMARY:Year 4 Swimming - Class 4O'
DESCRIPTION:
URL:https://merseyparkprimary.co.uk/event/year-4-swimming-class-4o/
END:VEVENT
END:VCALENDAR