BEGIN:VCALENDAR
VERSION:2.0
PRODID:-//Mersey Park Primary School - ECPv6.15.20//NONSGML v1.0//EN
CALSCALE:GREGORIAN
METHOD:PUBLISH
X-ORIGINAL-URL:https://merseyparkprimary.co.uk
X-WR-CALDESC:Events for Mersey Park Primary School
REFRESH-INTERVAL;VALUE=DURATION:PT1H
X-Robots-Tag:noindex
X-PUBLISHED-TTL:PT1H
BEGIN:VTIMEZONE
TZID:UTC
BEGIN:STANDARD
TZOFFSETFROM:+0000
TZOFFSETTO:+0000
TZNAME:UTC
DTSTART:20250101T000000
END:STANDARD
END:VTIMEZONE
BEGIN:VEVENT
DTSTART;TZID=UTC:20260223T093000
DTEND;TZID=UTC:20260223T150000
DTSTAMP:20260423T143957
CREATED:20260128T112901Z
LAST-MODIFIED:20260205T153643Z
UID:28149-1771839000-1771858800@merseyparkprimary.co.uk
SUMMARY:Year 1 and Year 2 Visit to Chester Zoo
DESCRIPTION: 
URL:https://merseyparkprimary.co.uk/event/28149/
ATTACH;FMTTYPE=image/jpeg:https://merseyparkprimary.co.uk/wp-content/uploads/2026/01/Chester-Zoo-.jpg
END:VEVENT
BEGIN:VEVENT
DTSTART;VALUE=DATE:20260226
DTEND;VALUE=DATE:20260227
DTSTAMP:20260423T143957
CREATED:20260205T154831Z
LAST-MODIFIED:20260205T154831Z
UID:28222-1772064000-1772150399@merseyparkprimary.co.uk
SUMMARY:Year 3 Visit to the Museum of Liverpool
DESCRIPTION:Year 3 Visit to the Museum of Liverpool \nThursday 26th February 2026 \nAs part of our topic work in class\, we will be taking the children on an educational visit to The Museum of Liverpool on Thursday 26th February 2026.  We will be learning and exploring the city’s significance and looking at the fabulous buildings.  We will also be exploring how Liverpool became one of the world’s great ports and how this has shaped the city of today.  Whilst we are there\, we will be taking part in some field work which will involve talking to\, and asking questions of\, members of the general public. \nThe children will be travelling by train from Green Lane station.  Please make sure that your child arrives at school no later than 9.00am\, as we will be walking to the station to get the train.  We will be having lunch whilst we are out and will return to school by train.  We will arrive back in school before the end of the school day. Your child will need a packed lunch in a labelled plastic bag.  Please ensure all contents are disposable (no glass bottles please).  If your child is entitled to a free school meal and you would like the kitchen to prepare a packed lunch for them\, please indicate this on the form on your ParentApp. \nYour child should come into school in their school uniform to include sensible shoes and a coat please. \nThe cost of the trip is FREE.  We would like to express our thanks to Merseyrail for providing free return transport to Liverpool for all our pupils. \nThank you for your continued support. \nYours sincerely\, \nR.Smith                              H Johnson \nMr R Smith                                            Miss H Johnson \nYear 3 Class Teachers
URL:https://merseyparkprimary.co.uk/event/year-3-visit-to-the-museum-of-liverpool/
ATTACH;FMTTYPE=image/jpeg:https://merseyparkprimary.co.uk/wp-content/uploads/2026/02/museum-of-liverpool-123.jpg
END:VEVENT
BEGIN:VEVENT
DTSTART;VALUE=DATE:20260305
DTEND;VALUE=DATE:20260306
DTSTAMP:20260423T143957
CREATED:20260128T143242Z
LAST-MODIFIED:20260128T143242Z
UID:28160-1772668800-1772755199@merseyparkprimary.co.uk
SUMMARY:World Book Day
DESCRIPTION:
URL:https://merseyparkprimary.co.uk/event/world-book-day/
ATTACH;FMTTYPE=image/png:https://merseyparkprimary.co.uk/wp-content/uploads/2026/01/World-Book-Day-2022.png
END:VEVENT
BEGIN:VEVENT
DTSTART;VALUE=DATE:20260320
DTEND;VALUE=DATE:20260321
DTSTAMP:20260423T143957
CREATED:20260317T113924Z
LAST-MODIFIED:20260317T113924Z
UID:28293-1773964800-1774051199@merseyparkprimary.co.uk
SUMMARY:Comic Relief - Take Yourself Funny for Money
DESCRIPTION:
URL:https://merseyparkprimary.co.uk/event/comic-relief-take-yourself-funny-for-money/
ATTACH;FMTTYPE=image/jpeg:https://merseyparkprimary.co.uk/wp-content/uploads/2026/03/Comic-Relief-2021.jpg
END:VEVENT
BEGIN:VEVENT
DTSTART;TZID=UTC:20260324T100000
DTEND;TZID=UTC:20260324T110000
DTSTAMP:20260423T143957
CREATED:20260317T114543Z
LAST-MODIFIED:20260317T114907Z
UID:28300-1774346400-1774350000@merseyparkprimary.co.uk
SUMMARY:Year 3 and Year 4 Concert - Unbreakable
DESCRIPTION:Parents/Carers of pupils in class 4O’ to attend
URL:https://merseyparkprimary.co.uk/event/year-3-and-year-4-concert-unbreakable/
ATTACH;FMTTYPE=image/png:https://merseyparkprimary.co.uk/wp-content/uploads/2026/03/Concert-band-clipart-kid-3.png
END:VEVENT
BEGIN:VEVENT
DTSTART;TZID=UTC:20260324T140000
DTEND;TZID=UTC:20260324T150000
DTSTAMP:20260423T143957
CREATED:20260317T114707Z
LAST-MODIFIED:20260317T114707Z
UID:28303-1774360800-1774364400@merseyparkprimary.co.uk
SUMMARY:Year 3 and Year 4 Concert - Unbreakable
DESCRIPTION:Parents/Carers of pupils in Year 3 to attend
URL:https://merseyparkprimary.co.uk/event/year-3-and-year-4-concert-unbreakable-2/
ATTACH;FMTTYPE=image/png:https://merseyparkprimary.co.uk/wp-content/uploads/2026/03/Concert-band-clipart-kid-3.png
END:VEVENT
BEGIN:VEVENT
DTSTART;TZID=UTC:20260325T100000
DTEND;TZID=UTC:20260325T110000
DTSTAMP:20260423T143957
CREATED:20260317T114808Z
LAST-MODIFIED:20260317T114808Z
UID:28305-1774432800-1774436400@merseyparkprimary.co.uk
SUMMARY:Year 3 and Year 4 Concert - Unbreakable
DESCRIPTION:Parents/Carers of pupils in class 4Y to attend
URL:https://merseyparkprimary.co.uk/event/year-3-and-year-4-concert-unbreakable-3/
ATTACH;FMTTYPE=image/png:https://merseyparkprimary.co.uk/wp-content/uploads/2026/03/Concert-band-clipart-kid-3.png
END:VEVENT
BEGIN:VEVENT
DTSTART;VALUE=DATE:20260413
DTEND;VALUE=DATE:20260414
DTSTAMP:20260423T143957
CREATED:20260122T122534Z
LAST-MODIFIED:20260128T113953Z
UID:28138-1776038400-1776124799@merseyparkprimary.co.uk
SUMMARY:Staff Development Day - School Closed to Pupils
DESCRIPTION:
URL:https://merseyparkprimary.co.uk/event/staff-development-day-school-closed-to-pupils-2/
ATTACH;FMTTYPE=image/jpeg:https://merseyparkprimary.co.uk/wp-content/uploads/2026/01/School-Closed.jpg
END:VEVENT
BEGIN:VEVENT
DTSTART;VALUE=DATE:20260420
DTEND;VALUE=DATE:20260421
DTSTAMP:20260423T143957
CREATED:20260317T114112Z
LAST-MODIFIED:20260317T114112Z
UID:28297-1776643200-1776729599@merseyparkprimary.co.uk
SUMMARY:Year 4 and Year 5 Visit to Chester Zoo
DESCRIPTION:
URL:https://merseyparkprimary.co.uk/event/year-4-and-year-5-visit-to-chester-zoo/
ATTACH;FMTTYPE=image/jpeg:https://merseyparkprimary.co.uk/wp-content/uploads/2026/03/Chester-Zoo-.jpg
END:VEVENT
BEGIN:VEVENT
DTSTART;VALUE=DATE:20260522
DTEND;VALUE=DATE:20260523
DTSTAMP:20260423T143957
CREATED:20260317T113519Z
LAST-MODIFIED:20260317T113519Z
UID:28291-1779408000-1779494399@merseyparkprimary.co.uk
SUMMARY:Staff Developmen t Day - School Closed to Pupils
DESCRIPTION:
URL:https://merseyparkprimary.co.uk/event/staff-developmen-t-day-school-closed-to-pupils/
END:VEVENT
BEGIN:VEVENT
DTSTART;TZID=UTC:20260615T090000
DTEND;TZID=UTC:20260616T150000
DTSTAMP:20260423T143957
CREATED:20260317T115127Z
LAST-MODIFIED:20260317T115216Z
UID:28308-1781514000-1781622000@merseyparkprimary.co.uk
SUMMARY:Year 4 Residential Visit - Barnstondale Centre
DESCRIPTION:More details soon!
URL:https://merseyparkprimary.co.uk/event/year-4-residentila-visit-barnstondale-centre/
ATTACH;FMTTYPE=image/jpeg:https://merseyparkprimary.co.uk/wp-content/uploads/2026/03/Barnstondale-2.jpg
END:VEVENT
END:VCALENDAR